BEGIN:VCALENDAR
VERSION:2.0
PRODID:-//Gayo Fitness Academy - ECPv6.13.2.1//NONSGML v1.0//EN
CALSCALE:GREGORIAN
METHOD:PUBLISH
X-WR-CALNAME:Gayo Fitness Academy
X-ORIGINAL-URL:https://www.gayofitnessacademy.com
X-WR-CALDESC:Events for Gayo Fitness Academy
REFRESH-INTERVAL;VALUE=DURATION:PT1H
X-Robots-Tag:noindex
X-PUBLISHED-TTL:PT1H
BEGIN:VTIMEZONE
TZID:UTC
BEGIN:STANDARD
TZOFFSETFROM:+0000
TZOFFSETTO:+0000
TZNAME:UTC
DTSTART:20250101T000000
END:STANDARD
END:VTIMEZONE
BEGIN:VEVENT
DTSTART;TZID=UTC:20250425T100000
DTEND;TZID=UTC:20250426T173000
DTSTAMP:20260423T074343
CREATED:20250129T110136Z
LAST-MODIFIED:20260306T063242Z
UID:8246-1745575200-1745688600@www.gayofitnessacademy.com
SUMMARY:p/reHAB: EXERCISE & SPORTS INJURIES: Rehab & Prehab - BENGALURU
DESCRIPTION:[vc_row][vc_column][vc_column_text css=””]Injuries occur during exercise and sport. Often\, in the rush of the moment\, they are neglected. \nPrompt and proper identification and assessment of the injury\, rendering of first aid and subsequent rehab exercises will enable the victim to return to normalcy without the risk of the injury’s reoccurrence. \n“Prehab” exercises will enable the victim to further minimize the risk of reoccurrence. \n[/vc_column_text][vc_tta_accordion style=”modern” spacing=”3″ gap=”3″ active_section=”1″ no_fill=”true”][vc_tta_section title=”CLINIC DATES & VENUE” tab_id=”1738144741652-3de1f350-baf5″][vc_column_text css=””] \n\nDates: April 25 and 26\, 2026\nVenue:\n\n \nLotus Sports and Fitness JP Nagar  \n105/71\, 1st main\, 4th Cross Rd\, Guru Raghavendra Nagar\, \nPhase 7\, J. P. Nagar\, Bengaluru\, 560078 \nhttps://share.google/yARsuWftqzsefKFug[/vc_column_text][/vc_tta_section][vc_tta_section title=”LEARNING OUTCOMES” tab_id=”1738144771677-ff5e52e2-8aab”][vc_column_text css=””]This “live”\, in-person clinic of 12 hours aims to introduce Fitness and Sports professionals to primary techniques of injury rehabilitation and prevention of future occurrences. It will lead to the following outcomes for the participants. \nTheory \n\nUnderstand the anatomy of the joints\nCauses of injuries\nIntroduction to the principles of assessment\, management and rehabilitation\,\nIntroduction to bandaging and taping\nIntroduction to rehab exercises\n\nPractical training \n\nIdentify and analyse injury\nInitiate basic management of the injuries\, post-First Aid\nRecommend basic rehab and prehab exercises in consultation with the physiotherapist\n\nBy the end of the program\, the attendees ought to be able to – \n\nASSESS + MANAGE + SAFELY TRANSITION injured clients after rendering first aid to physiotherapists.\n\n \n\nEnable fitness professionals to work with physiotherapists and  medical doctors\nIncrease awareness of safety and preventative aspects of training.\n\n[/vc_column_text][/vc_tta_section][vc_tta_section title=”FEE” tab_id=”1738144808985-fcad1041-22a1″][vc_column_text css=””] \n\nGeneral: ₹6\,000 + 5% GST\n\nNote: \n\nNo instalment facility\, please\nFee must be paid in full by and before seven working days from date of the start date.\nAdditional fee payable for CEUs / CPDs for ISSA / REPS UAE / other certification renewals\n\n[/vc_column_text][/vc_tta_section][vc_tta_section title=”COURSE CREDENTIALS” tab_id=”1738144844174-95ff26d4-7fd0″][vc_column_text css=””]This clinic is one of our most popular training programs. We have presented it in Dubai\, Gurugram\, Kolkata\, Mumbai and Thrissur. \n \nREPS UAE has approved the clinic for 12 CPDs (if the clinic is attended in UAE) \n[/vc_column_text][/vc_tta_section][vc_tta_section title=”MINIMUM ELIGIBILITY” tab_id=”1738144872342-309eca30-a900″][vc_column_text css=””]The clinic is designed for the following professionals who frequently face the risks of clients suffering from exercise and sports injuries \n\nPersonal Trainers\nPilates Teachers\nOther fitness professionals\nPhysical Education teacher\nS&C trainers / coaches\nSports coaches\n\nIMPORTANT \nIt is essential that the attendees have a thorough grounding in exercise physiology\, kinesiology and exercise sciences.  They are expected to hold a Level 3 or 4 personal training certification and / or a graduate or post-graduate degree as applicable.[/vc_column_text][/vc_tta_section][vc_tta_section title=”CONTENT & RESOURCES” tab_id=”1738144916884-26577625-95a0″][vc_column_text css=””]SYLLABUS \n\nIntroduction to Sports Injuries\, Assessment\nPrevention of sports injuries and rehabilitation principles\nIntroduction to Taping and Bandages Tapes\nIntroduction to the below mentioned joint and associated injuries management\, rehabilitation including hands-on practice\n\nShoulder\nElbow\nWrist\nHip\nKnees\nSpine\n\n\n\n[/vc_column_text][/vc_tta_section][vc_tta_section title=”LEARNING RESOURCES” tab_id=”1738144985423-a91226a6-8a1a”][vc_column_text css=””] \n\nHand-Notes\nAccess to videos – complimentary access for only 60 days from the date of the clinic certificate; thereafter\, yearly subscription fee of ₹750 + 5 % GST.\n\n[/vc_column_text][/vc_tta_section][vc_tta_section title=”PRESENTER” tab_id=”1738145011215-8586f1a0-699e”][vc_column_text css=””]Meenakshi \n \nShe is one of India’s most experienced sports physiotherapists with long\, extensive experience with India’s international boxers and wrestlers (who have excelled at the world and international levels). \nHer credentials include – \n\nBachelor’s Degree and a Master’s Degree in Physiotherapy in Sports\nAssistant Professorship in a reputed Physiotherapy College in India.\nHas over 11 years of experience in sports and exercise injuries management at the national and international levels; she has been consultant to the Sports Authority of India for several years.\nRecently completed her Focus Awards Level 3 Education and Training certification course.\n\n[/vc_column_text][/vc_tta_section][vc_tta_section title=”TIMELINE” tab_id=”1738145040604-7a81e7d1-3628″][vc_column_text css=””][All timings in IST] \nJanuary April 25 and 26\, 2026 (9:00 am to 5:00 pm – these timings are subject to change) \nVenue: Lotus Sports and Fitness JP Nagar  \n105/71\, 1st main\, 4th Cross Rd\, Guru Raghavendra Nagar\, \nPhase 7\, J. P. Nagar\, Bengaluru\, 560078 \nhttps://share.google/yARsuWftqzsefKFug \n\n\n\nTIME\nDAY 1\nApparatus / Venue \n\n\n0830 – 0900\nREGISTRATION\n\n\n\n0900 – 1000\nIntroduction to Sports Injuries\, Assessment\nClassroom\n\n\n1000 – 1115\nPrevention of sports injuries and rehabilitation principles\nPPTs – Classroom\n\n\n1115 – 1215\nIntroduction to Taping and Bandages\nTapes\, crepe bandage\, one model\n\n\n1215 – 1330\nIntroduction to shoulder joint and associated injuries management\, rehabilitation including hands-on practice \nResistance bands\, etc\n\n\n  1330 – 1400\nLunch\n\n\n\n1400 – 1500\nIntroduction to elbow joint and associated injuries- management\, rehabilitation including hands-on practice\nResistance bands\, etc\n\n\n1500 – 1600\nIntroduction to wrist joint and associated injuries- management\, rehabilitation including hands-on practice\nResistance bands\, etc\n\n\n1600 – 1700\nIntroduction to hip joint and associated injuries- management\, rehabilitation including hands-on practice\nResistance bands\, etc\n\n\nTIME\nDAY 2 \n \n\n\n0900 – 1000\nIntroduction to knee joint and associated injuries- management\, rehabilitation including hands-on practice\nResistance bands\, etc\n\n\n1000 – 1115\nIntroduction to Ankle and associated injuries- management\, rehabilitation including hands-on practice\nResistance bands\, etc\n\n\n1115 – 1215\nIntroduction to spine and associated injuries- management\, rehabilitation including hands-on practice\nResistance bands\, etc\n\n\n1215-1300\nDiscussion with Attendees and Assessment\nClassroom\n\n\n\n[/vc_column_text][/vc_tta_section][vc_tta_section title=”EXAMS & CERTIFICATES” tab_id=”1738145221443-9b047c77-782b”][vc_column_text css=””]Assessment \nTheory Question Paper of 50 multiple-choice questions \nPractical assessment \nCertifications \nThe following certificate will be awarded\, subject to – \n\nSuccessful completion of the clinic\nCompletion of fee payment\n\nGAYO FITNESS ACADEMY’s Certificate for – \nProficiency in EXERCISE & SPORTS INJURIES: Rehab & Prehab Management \nNote: \n\nThe certificate is non-renewable\nCPDs / CEUs certificates issued by other education providers will be issued as per their respective rules and policies upon additional fee payable if any.\n\n[/vc_column_text][/vc_tta_section][vc_tta_section title=”CONTACT” tab_id=”1738145247250-c4425050-7e4a”][vc_column_text css=””]LOTUS SPORTS AND FITNESS – JP Nagar  \nVenkatesh – +91 99863 73883 \nPhase 7\, J. P. Nagar\, Bengaluru\, 560078 \nhttps://share.google/yARsuWftqzsefKFug \n \nGĀYO FITNESS ACADEMY \nHarpita (MUMBAI Head Office) +91 81048 39793 \ninfo@gayofitnessacademy.com[/vc_column_text][/vc_tta_section][/vc_tta_accordion][/vc_column][/vc_row][vc_row][vc_column][/vc_column][/vc_row]
URL:https://www.gayofitnessacademy.com/event/exercise-sports-injuries-rehab-prehab-bengaluru/
CATEGORIES:Bengaluru
ATTACH;FMTTYPE=image/jpeg:https://www.gayofitnessacademy.com/wp-content/uploads/2025/01/BAN-HAB-APRIL-2026-COVER.jpeg
END:VEVENT
END:VCALENDAR